BEGIN:VCALENDAR
VERSION:2.0
PRODID:-//Yarlside Academy - ECPv5.10.0//NONSGML v1.0//EN
CALSCALE:GREGORIAN
METHOD:PUBLISH
X-WR-CALNAME:Yarlside Academy
X-ORIGINAL-URL:https://www.yarlsideacademy.co.uk
X-WR-CALDESC:Events for Yarlside Academy
BEGIN:VTIMEZONE
TZID:UTC
BEGIN:STANDARD
TZOFFSETFROM:+0000
TZOFFSETTO:+0000
TZNAME:UTC
DTSTART:20200101T000000
END:STANDARD
END:VTIMEZONE
BEGIN:VEVENT
DTSTART;TZID=UTC:20200108T080000
DTEND;TZID=UTC:20200108T170000
DTSTAMP:20260423T205425
CREATED:20191115T101213Z
LAST-MODIFIED:20191115T101736Z
UID:1119-1578470400-1578502800@www.yarlsideacademy.co.uk
SUMMARY:Year 2 and 3 Swimming starts
DESCRIPTION:
URL:https://www.yarlsideacademy.co.uk/event/year-2-and-3-swimming-starts/
CATEGORIES:School
END:VEVENT
END:VCALENDAR