BEGIN:VCALENDAR
VERSION:2.0
PRODID:-//Yarlside Academy - ECPv5.10.0//NONSGML v1.0//EN
CALSCALE:GREGORIAN
METHOD:PUBLISH
X-WR-CALNAME:Yarlside Academy
X-ORIGINAL-URL:https://www.yarlsideacademy.co.uk
X-WR-CALDESC:Events for Yarlside Academy
BEGIN:VTIMEZONE
TZID:UTC
BEGIN:STANDARD
TZOFFSETFROM:+0000
TZOFFSETTO:+0000
TZNAME:UTC
DTSTART:20200101T000000
END:STANDARD
END:VTIMEZONE
BEGIN:VEVENT
DTSTART;VALUE=DATE:20200108
DTEND;VALUE=DATE:20200109
DTSTAMP:20260423T210048
CREATED:20191203T122502Z
LAST-MODIFIED:20191203T122502Z
UID:1209-1578441600-1578527999@www.yarlsideacademy.co.uk
SUMMARY:Year 2 and 3 Swimming Lessons Start
DESCRIPTION:
URL:https://www.yarlsideacademy.co.uk/event/year-2-and-3-swimming-lessons-start/
CATEGORIES:School
END:VEVENT
END:VCALENDAR