BEGIN:VCALENDAR
VERSION:2.0
PRODID:-//Yarlside Academy - ECPv5.10.0//NONSGML v1.0//EN
CALSCALE:GREGORIAN
METHOD:PUBLISH
X-WR-CALNAME:Yarlside Academy
X-ORIGINAL-URL:https://www.yarlsideacademy.co.uk
X-WR-CALDESC:Events for Yarlside Academy
BEGIN:VTIMEZONE
TZID:UTC
BEGIN:STANDARD
TZOFFSETFROM:+0000
TZOFFSETTO:+0000
TZNAME:UTC
DTSTART:20220101T000000
END:STANDARD
END:VTIMEZONE
BEGIN:VEVENT
DTSTART;VALUE=DATE:20220526
DTEND;VALUE=DATE:20220527
DTSTAMP:20260423T095808
CREATED:20211221T121649Z
LAST-MODIFIED:20211221T121649Z
UID:3091-1653523200-1653609599@www.yarlsideacademy.co.uk
SUMMARY:Work of the Month
DESCRIPTION:
URL:https://www.yarlsideacademy.co.uk/event/work-of-the-month-10/
CATEGORIES:Home,School
END:VEVENT
END:VCALENDAR