BEGIN:VCALENDAR
VERSION:2.0
PRODID:-//Yarlside Academy - ECPv5.10.0//NONSGML v1.0//EN
CALSCALE:GREGORIAN
METHOD:PUBLISH
X-WR-CALNAME:Yarlside Academy
X-ORIGINAL-URL:https://www.yarlsideacademy.co.uk
X-WR-CALDESC:Events for Yarlside Academy
BEGIN:VTIMEZONE
TZID:UTC
BEGIN:STANDARD
TZOFFSETFROM:+0000
TZOFFSETTO:+0000
TZNAME:UTC
DTSTART:20220101T000000
END:STANDARD
END:VTIMEZONE
BEGIN:VEVENT
DTSTART;VALUE=DATE:20220719
DTEND;VALUE=DATE:20220720
DTSTAMP:20260423T095558
CREATED:20211221T121931Z
LAST-MODIFIED:20211221T121931Z
UID:3103-1658188800-1658275199@www.yarlsideacademy.co.uk
SUMMARY:Whole School Assembly
DESCRIPTION:
URL:https://www.yarlsideacademy.co.uk/event/whole-school-assembly/
CATEGORIES:Home,School
END:VEVENT
END:VCALENDAR