BEGIN:VCALENDAR
VERSION:2.0
PRODID:-//Yarlside Academy - ECPv5.10.0//NONSGML v1.0//EN
CALSCALE:GREGORIAN
METHOD:PUBLISH
X-WR-CALNAME:Yarlside Academy
X-ORIGINAL-URL:https://www.yarlsideacademy.co.uk
X-WR-CALDESC:Events for Yarlside Academy
BEGIN:VTIMEZONE
TZID:UTC
BEGIN:STANDARD
TZOFFSETFROM:+0000
TZOFFSETTO:+0000
TZNAME:UTC
DTSTART:20220101T000000
END:STANDARD
END:VTIMEZONE
BEGIN:VEVENT
DTSTART;VALUE=DATE:20220530
DTEND;VALUE=DATE:20220604
DTSTAMP:20260423T095530
CREATED:20211221T121742Z
LAST-MODIFIED:20211221T121742Z
UID:3095-1653868800-1654300799@www.yarlsideacademy.co.uk
SUMMARY:Summer Half Term
DESCRIPTION:
URL:https://www.yarlsideacademy.co.uk/event/summer-half-term/
CATEGORIES:Home,School
END:VEVENT
END:VCALENDAR