BEGIN:VCALENDAR
VERSION:2.0
PRODID:-//Yarlside Academy - ECPv5.10.0//NONSGML v1.0//EN
CALSCALE:GREGORIAN
METHOD:PUBLISH
X-WR-CALNAME:Yarlside Academy
X-ORIGINAL-URL:https://www.yarlsideacademy.co.uk
X-WR-CALDESC:Events for Yarlside Academy
BEGIN:VTIMEZONE
TZID:UTC
BEGIN:STANDARD
TZOFFSETFROM:+0000
TZOFFSETTO:+0000
TZNAME:UTC
DTSTART:20220101T000000
END:STANDARD
END:VTIMEZONE
BEGIN:VEVENT
DTSTART;VALUE=DATE:20220420
DTEND;VALUE=DATE:20220421
DTSTAMP:20260423T112352
CREATED:20211221T121422Z
LAST-MODIFIED:20211221T121422Z
UID:3083-1650412800-1650499199@www.yarlsideacademy.co.uk
SUMMARY:Start of the Summer Term
DESCRIPTION:
URL:https://www.yarlsideacademy.co.uk/event/start-of-the-summer-term/
CATEGORIES:Home,School
END:VEVENT
END:VCALENDAR