BEGIN:VCALENDAR
VERSION:2.0
PRODID:-//Yarlside Academy - ECPv5.10.0//NONSGML v1.0//EN
CALSCALE:GREGORIAN
METHOD:PUBLISH
X-WR-CALNAME:Yarlside Academy
X-ORIGINAL-URL:https://www.yarlsideacademy.co.uk
X-WR-CALDESC:Events for Yarlside Academy
BEGIN:VTIMEZONE
TZID:UTC
BEGIN:STANDARD
TZOFFSETFROM:+0000
TZOFFSETTO:+0000
TZNAME:UTC
DTSTART:20220101T000000
END:STANDARD
END:VTIMEZONE
BEGIN:VEVENT
DTSTART;VALUE=DATE:20220214
DTEND;VALUE=DATE:20220219
DTSTAMP:20260423T123316
CREATED:20211221T115846Z
LAST-MODIFIED:20211221T115846Z
UID:3061-1644796800-1645228799@www.yarlsideacademy.co.uk
SUMMARY:Spring Half Term
DESCRIPTION:
URL:https://www.yarlsideacademy.co.uk/event/spring-half-term-2/
CATEGORIES:Home,School
END:VEVENT
END:VCALENDAR