BEGIN:VCALENDAR
VERSION:2.0
PRODID:-//Yarlside Academy - ECPv5.10.0//NONSGML v1.0//EN
CALSCALE:GREGORIAN
METHOD:PUBLISH
X-WR-CALNAME:Yarlside Academy
X-ORIGINAL-URL:https://www.yarlsideacademy.co.uk
X-WR-CALDESC:Events for Yarlside Academy
BEGIN:VTIMEZONE
TZID:UTC
BEGIN:STANDARD
TZOFFSETFROM:+0000
TZOFFSETTO:+0000
TZNAME:UTC
DTSTART:20190101T000000
END:STANDARD
END:VTIMEZONE
BEGIN:VEVENT
DTSTART;VALUE=DATE:20191212
DTEND;VALUE=DATE:20191213
DTSTAMP:20260423T210048
CREATED:20191203T122045Z
LAST-MODIFIED:20191203T122045Z
UID:1203-1576108800-1576195199@www.yarlsideacademy.co.uk
SUMMARY:Polling Day- School Closed
DESCRIPTION:Voting Day- Yarlside Academy Closed
URL:https://www.yarlsideacademy.co.uk/event/polling-day-school-closed/
CATEGORIES:School
END:VEVENT
END:VCALENDAR