BEGIN:VCALENDAR
VERSION:2.0
PRODID:-//Yarlside Academy - ECPv5.10.0//NONSGML v1.0//EN
CALSCALE:GREGORIAN
METHOD:PUBLISH
X-WR-CALNAME:Yarlside Academy
X-ORIGINAL-URL:https://www.yarlsideacademy.co.uk
X-WR-CALDESC:Events for Yarlside Academy
BEGIN:VTIMEZONE
TZID:UTC
BEGIN:STANDARD
TZOFFSETFROM:+0000
TZOFFSETTO:+0000
TZNAME:UTC
DTSTART:20190101T000000
END:STANDARD
END:VTIMEZONE
BEGIN:VEVENT
DTSTART;TZID=UTC:20191216T080000
DTEND;TZID=UTC:20191216T170000
DTSTAMP:20260423T204749
CREATED:20191115T101048Z
LAST-MODIFIED:20191115T101725Z
UID:1113-1576483200-1576515600@www.yarlsideacademy.co.uk
SUMMARY:Nativity
DESCRIPTION:Nursery and reception AM and Year 1 and 2 production PM
URL:https://www.yarlsideacademy.co.uk/event/nativity/
CATEGORIES:School
END:VEVENT
END:VCALENDAR