BEGIN:VCALENDAR
VERSION:2.0
PRODID:-//Yarlside Academy - ECPv5.10.0//NONSGML v1.0//EN
CALSCALE:GREGORIAN
METHOD:PUBLISH
X-WR-CALNAME:Yarlside Academy
X-ORIGINAL-URL:https://www.yarlsideacademy.co.uk
X-WR-CALDESC:Events for Yarlside Academy
BEGIN:VTIMEZONE
TZID:UTC
BEGIN:STANDARD
TZOFFSETFROM:+0000
TZOFFSETTO:+0000
TZNAME:UTC
DTSTART:20210101T000000
END:STANDARD
END:VTIMEZONE
BEGIN:VEVENT
DTSTART;VALUE=DATE:20211117
DTEND;VALUE=DATE:20211118
DTSTAMP:20260423T142145
CREATED:20211019T152615Z
LAST-MODIFIED:20211019T152615Z
UID:2641-1637107200-1637193599@www.yarlsideacademy.co.uk
SUMMARY:Last swimming Year 4/5
DESCRIPTION:
URL:https://www.yarlsideacademy.co.uk/event/last-swimming-year-4-5/
CATEGORIES:Home,School
END:VEVENT
END:VCALENDAR