BEGIN:VCALENDAR
VERSION:2.0
PRODID:-//Yarlside Academy - ECPv5.10.0//NONSGML v1.0//EN
CALSCALE:GREGORIAN
METHOD:PUBLISH
X-WR-CALNAME:Yarlside Academy
X-ORIGINAL-URL:https://www.yarlsideacademy.co.uk
X-WR-CALDESC:Events for Yarlside Academy
BEGIN:VTIMEZONE
TZID:UTC
BEGIN:STANDARD
TZOFFSETFROM:+0000
TZOFFSETTO:+0000
TZNAME:UTC
DTSTART:20190101T000000
END:STANDARD
END:VTIMEZONE
BEGIN:VEVENT
DTSTART;VALUE=DATE:20191120
DTEND;VALUE=DATE:20191121
DTSTAMP:20260423T153643
CREATED:20190807T145141Z
LAST-MODIFIED:20191115T100749Z
UID:208-1574208000-1574294399@www.yarlsideacademy.co.uk
SUMMARY:Last Swimming Session
DESCRIPTION:
URL:https://www.yarlsideacademy.co.uk/event/last-swimming-session/
CATEGORIES:Home,School
END:VEVENT
END:VCALENDAR