BEGIN:VCALENDAR
VERSION:2.0
PRODID:-//Yarlside Academy - ECPv5.10.0//NONSGML v1.0//EN
CALSCALE:GREGORIAN
METHOD:PUBLISH
X-WR-CALNAME:Yarlside Academy
X-ORIGINAL-URL:https://www.yarlsideacademy.co.uk
X-WR-CALDESC:Events for Yarlside Academy
BEGIN:VTIMEZONE
TZID:UTC
BEGIN:STANDARD
TZOFFSETFROM:+0000
TZOFFSETTO:+0000
TZNAME:UTC
DTSTART:20210101T000000
END:STANDARD
END:VTIMEZONE
BEGIN:VEVENT
DTSTART;VALUE=DATE:20211008
DTEND;VALUE=DATE:20211009
DTSTAMP:20260423T153958
CREATED:20211019T152300Z
LAST-MODIFIED:20211019T153500Z
UID:2629-1633651200-1633737599@www.yarlsideacademy.co.uk
SUMMARY:Harvest AM
DESCRIPTION:
URL:https://www.yarlsideacademy.co.uk/event/harvest-am/
CATEGORIES:Home,School
END:VEVENT
END:VCALENDAR