BEGIN:VCALENDAR
VERSION:2.0
PRODID:-//Yarlside Academy - ECPv5.10.0//NONSGML v1.0//EN
CALSCALE:GREGORIAN
METHOD:PUBLISH
X-WR-CALNAME:Yarlside Academy
X-ORIGINAL-URL:https://www.yarlsideacademy.co.uk
X-WR-CALDESC:Events for Yarlside Academy
BEGIN:VTIMEZONE
TZID:UTC
BEGIN:STANDARD
TZOFFSETFROM:+0000
TZOFFSETTO:+0000
TZNAME:UTC
DTSTART:20210101T000000
END:STANDARD
END:VTIMEZONE
BEGIN:VEVENT
DTSTART;VALUE=DATE:20211025
DTEND;VALUE=DATE:20211030
DTSTAMP:20260423T143136
CREATED:20211019T153426Z
LAST-MODIFIED:20211019T153426Z
UID:2657-1635120000-1635551999@www.yarlsideacademy.co.uk
SUMMARY:Half Term
DESCRIPTION:
URL:https://www.yarlsideacademy.co.uk/event/half-term/
CATEGORIES:Home,School
END:VEVENT
END:VCALENDAR