BEGIN:VCALENDAR
VERSION:2.0
PRODID:-//Yarlside Academy - ECPv5.10.0//NONSGML v1.0//EN
CALSCALE:GREGORIAN
METHOD:PUBLISH
X-WR-CALNAME:Yarlside Academy
X-ORIGINAL-URL:https://www.yarlsideacademy.co.uk
X-WR-CALDESC:Events for Yarlside Academy
BEGIN:VTIMEZONE
TZID:UTC
BEGIN:STANDARD
TZOFFSETFROM:+0000
TZOFFSETTO:+0000
TZNAME:UTC
DTSTART:20200101T000000
END:STANDARD
END:VTIMEZONE
BEGIN:VEVENT
DTSTART;TZID=UTC:20200120T080000
DTEND;TZID=UTC:20200120T170000
DTSTAMP:20260423T205046
CREATED:20191115T101411Z
LAST-MODIFIED:20191115T101740Z
UID:1121-1579507200-1579539600@www.yarlsideacademy.co.uk
SUMMARY:Extra Curricular clubs restart
DESCRIPTION:
URL:https://www.yarlsideacademy.co.uk/event/extra-curricular-clubs-restart/
CATEGORIES:School
END:VEVENT
END:VCALENDAR