BEGIN:VCALENDAR
VERSION:2.0
PRODID:-//Yarlside Academy - ECPv5.10.0//NONSGML v1.0//EN
CALSCALE:GREGORIAN
METHOD:PUBLISH
X-WR-CALNAME:Yarlside Academy
X-ORIGINAL-URL:https://www.yarlsideacademy.co.uk
X-WR-CALDESC:Events for Yarlside Academy
BEGIN:VTIMEZONE
TZID:UTC
BEGIN:STANDARD
TZOFFSETFROM:+0000
TZOFFSETTO:+0000
TZNAME:UTC
DTSTART:20220101T000000
END:STANDARD
END:VTIMEZONE
BEGIN:VEVENT
DTSTART;VALUE=DATE:20220401
DTEND;VALUE=DATE:20220402
DTSTAMP:20260423T111301
CREATED:20211221T121316Z
LAST-MODIFIED:20211221T121316Z
UID:3079-1648771200-1648857599@www.yarlsideacademy.co.uk
SUMMARY:Easter Coffee Morning
DESCRIPTION:
URL:https://www.yarlsideacademy.co.uk/event/easter-coffee-morning/
CATEGORIES:Home,School
END:VEVENT
END:VCALENDAR