BEGIN:VCALENDAR
VERSION:2.0
PRODID:-//Yarlside Academy - ECPv5.10.0//NONSGML v1.0//EN
CALSCALE:GREGORIAN
METHOD:PUBLISH
X-WR-CALNAME:Yarlside Academy
X-ORIGINAL-URL:https://www.yarlsideacademy.co.uk
X-WR-CALDESC:Events for Yarlside Academy
BEGIN:VTIMEZONE
TZID:UTC
BEGIN:STANDARD
TZOFFSETFROM:+0000
TZOFFSETTO:+0000
TZNAME:UTC
DTSTART:20190101T000000
END:STANDARD
END:VTIMEZONE
BEGIN:VEVENT
DTSTART;TZID=UTC:20191212T120000
DTEND;TZID=UTC:20191212T163000
DTSTAMP:20260423T204917
CREATED:20191115T100929Z
LAST-MODIFIED:20191115T101714Z
UID:1109-1576152000-1576168200@www.yarlsideacademy.co.uk
SUMMARY:Coffee Afternoon
DESCRIPTION:
URL:https://www.yarlsideacademy.co.uk/event/coffee-afternoon/
CATEGORIES:School
END:VEVENT
END:VCALENDAR