BEGIN:VCALENDAR
VERSION:2.0
PRODID:-//Yarlside Academy - ECPv5.10.0//NONSGML v1.0//EN
CALSCALE:GREGORIAN
METHOD:PUBLISH
X-WR-CALNAME:Yarlside Academy
X-ORIGINAL-URL:https://www.yarlsideacademy.co.uk
X-WR-CALDESC:Events for Yarlside Academy
BEGIN:VTIMEZONE
TZID:UTC
BEGIN:STANDARD
TZOFFSETFROM:+0000
TZOFFSETTO:+0000
TZNAME:UTC
DTSTART:20210101T000000
END:STANDARD
END:VTIMEZONE
BEGIN:VEVENT
DTSTART;VALUE=DATE:20211210
DTEND;VALUE=DATE:20211211
DTSTAMP:20260423T124151
CREATED:20211019T152942Z
LAST-MODIFIED:20211019T152942Z
UID:2653-1639094400-1639180799@www.yarlsideacademy.co.uk
SUMMARY:Christmas Jumper Day
DESCRIPTION:
URL:https://www.yarlsideacademy.co.uk/event/christmas-jumper-day/
CATEGORIES:Home,School
END:VEVENT
END:VCALENDAR