BEGIN:VCALENDAR
VERSION:2.0
PRODID:-//Yarlside Academy - ECPv5.10.0//NONSGML v1.0//EN
CALSCALE:GREGORIAN
METHOD:PUBLISH
X-WR-CALNAME:Yarlside Academy
X-ORIGINAL-URL:https://www.yarlsideacademy.co.uk
X-WR-CALDESC:Events for Yarlside Academy
BEGIN:VTIMEZONE
TZID:UTC
BEGIN:STANDARD
TZOFFSETFROM:+0000
TZOFFSETTO:+0000
TZNAME:UTC
DTSTART:20210101T000000
END:STANDARD
END:VTIMEZONE
BEGIN:VEVENT
DTSTART;VALUE=DATE:20211203
DTEND;VALUE=DATE:20211204
DTSTAMP:20260423T143238
CREATED:20211019T152745Z
LAST-MODIFIED:20211019T152745Z
UID:2647-1638489600-1638575999@www.yarlsideacademy.co.uk
SUMMARY:Christmas Fayre
DESCRIPTION:
URL:https://www.yarlsideacademy.co.uk/event/christmas-fayre/
CATEGORIES:Home,School
END:VEVENT
END:VCALENDAR