BEGIN:VCALENDAR
VERSION:2.0
PRODID:-//Yarlside Academy - ECPv5.10.0//NONSGML v1.0//EN
CALSCALE:GREGORIAN
METHOD:PUBLISH
X-WR-CALNAME:Yarlside Academy
X-ORIGINAL-URL:https://www.yarlsideacademy.co.uk
X-WR-CALDESC:Events for Yarlside Academy
BEGIN:VTIMEZONE
TZID:UTC
BEGIN:STANDARD
TZOFFSETFROM:+0000
TZOFFSETTO:+0000
TZNAME:UTC
DTSTART:20210101T000000
END:STANDARD
END:VTIMEZONE
BEGIN:VEVENT
DTSTART;VALUE=DATE:20211112
DTEND;VALUE=DATE:20211113
DTSTAMP:20260423T135347
CREATED:20211019T152528Z
LAST-MODIFIED:20211019T152528Z
UID:2639-1636675200-1636761599@www.yarlsideacademy.co.uk
SUMMARY:Children in Need
DESCRIPTION:
URL:https://www.yarlsideacademy.co.uk/event/children-in-need/
CATEGORIES:Home,School
END:VEVENT
END:VCALENDAR